BEGIN:VCALENDAR
VERSION:2.0
PRODID:-//Artesia Chamber - ECPv6.15.20//NONSGML v1.0//EN
CALSCALE:GREGORIAN
METHOD:PUBLISH
X-ORIGINAL-URL:https://artesiachamber.org
X-WR-CALDESC:Events for Artesia Chamber
REFRESH-INTERVAL;VALUE=DURATION:PT1H
X-Robots-Tag:noindex
X-PUBLISHED-TTL:PT1H
BEGIN:VTIMEZONE
TZID:America/Los_Angeles
BEGIN:DAYLIGHT
TZOFFSETFROM:-0800
TZOFFSETTO:-0700
TZNAME:PDT
DTSTART:20220313T100000
END:DAYLIGHT
BEGIN:STANDARD
TZOFFSETFROM:-0700
TZOFFSETTO:-0800
TZNAME:PST
DTSTART:20221106T090000
END:STANDARD
BEGIN:DAYLIGHT
TZOFFSETFROM:-0800
TZOFFSETTO:-0700
TZNAME:PDT
DTSTART:20230312T100000
END:DAYLIGHT
BEGIN:STANDARD
TZOFFSETFROM:-0700
TZOFFSETTO:-0800
TZNAME:PST
DTSTART:20231105T090000
END:STANDARD
BEGIN:DAYLIGHT
TZOFFSETFROM:-0800
TZOFFSETTO:-0700
TZNAME:PDT
DTSTART:20240310T100000
END:DAYLIGHT
BEGIN:STANDARD
TZOFFSETFROM:-0700
TZOFFSETTO:-0800
TZNAME:PST
DTSTART:20241103T090000
END:STANDARD
END:VTIMEZONE
BEGIN:VEVENT
DTSTART;TZID=America/Los_Angeles:20230801T180000
DTEND;TZID=America/Los_Angeles:20230801T190000
DTSTAMP:20260425T050935
CREATED:20230720T111333Z
LAST-MODIFIED:20240219T043719Z
UID:10000318-1690912800-1690916400@artesiachamber.org
SUMMARY:Community Workshop
DESCRIPTION:
URL:https://artesiachamber.org/event/community-workshop/
LOCATION:Artesia park community center\, 18750 Clarkdale Ave Artesia\, Artesia\, CA\, 90701\, United States
ATTACH;FMTTYPE=image/jpeg:https://artesiachamber.org/wp-content/uploads/Community-Workshop-thumbnail.jpg
END:VEVENT
BEGIN:VEVENT
DTSTART;TZID=America/Los_Angeles:20230517T170000
DTEND;TZID=America/Los_Angeles:20230517T180000
DTSTAMP:20260425T050935
CREATED:20230515T131553Z
LAST-MODIFIED:20230515T131553Z
UID:10000051-1684342800-1684346400@artesiachamber.org
SUMMARY:Learn Parenting Skills Through Rctivities
DESCRIPTION:
URL:https://artesiachamber.org/event/learn-parenting-skills-through-rctivities/
LOCATION:Artesia park community center\, 18750 Clarkdale Ave Artesia\, Artesia\, CA\, 90701\, United States
ATTACH;FMTTYPE=image/jpeg:https://artesiachamber.org/wp-content/uploads/Learn-Parenting-Skills-Through-Rctivities-Thumbnail.jpg
END:VEVENT
BEGIN:VEVENT
DTSTART;TZID=America/Los_Angeles:20230408T110000
DTEND;TZID=America/Los_Angeles:20230408T150000
DTSTAMP:20260425T050935
CREATED:20230303T101626Z
LAST-MODIFIED:20240219T043928Z
UID:10000041-1680951600-1680966000@artesiachamber.org
SUMMARY:City of Artesia Eggstravaganza
DESCRIPTION:
URL:https://artesiachamber.org/event/city-of-artesia-eggstravaganza/
LOCATION:Artesia park community center\, 18750 Clarkdale Ave Artesia\, Artesia\, CA\, 90701\, United States
ATTACH;FMTTYPE=image/jpeg:https://artesiachamber.org/wp-content/uploads/City-of-Artesia-Eggstravaganza-Thumbnail.jpg
END:VEVENT
END:VCALENDAR