BEGIN:VCALENDAR
VERSION:2.0
PRODID:-//Artesia Chamber - ECPv6.15.20//NONSGML v1.0//EN
CALSCALE:GREGORIAN
METHOD:PUBLISH
X-WR-CALNAME:Artesia Chamber
X-ORIGINAL-URL:https://artesiachamber.org
X-WR-CALDESC:Events for Artesia Chamber
REFRESH-INTERVAL;VALUE=DURATION:PT1H
X-Robots-Tag:noindex
X-PUBLISHED-TTL:PT1H
BEGIN:VTIMEZONE
TZID:America/Los_Angeles
BEGIN:DAYLIGHT
TZOFFSETFROM:-0800
TZOFFSETTO:-0700
TZNAME:PDT
DTSTART:20220313T100000
END:DAYLIGHT
BEGIN:STANDARD
TZOFFSETFROM:-0700
TZOFFSETTO:-0800
TZNAME:PST
DTSTART:20221106T090000
END:STANDARD
BEGIN:DAYLIGHT
TZOFFSETFROM:-0800
TZOFFSETTO:-0700
TZNAME:PDT
DTSTART:20230312T100000
END:DAYLIGHT
BEGIN:STANDARD
TZOFFSETFROM:-0700
TZOFFSETTO:-0800
TZNAME:PST
DTSTART:20231105T090000
END:STANDARD
BEGIN:DAYLIGHT
TZOFFSETFROM:-0800
TZOFFSETTO:-0700
TZNAME:PDT
DTSTART:20240310T100000
END:DAYLIGHT
BEGIN:STANDARD
TZOFFSETFROM:-0700
TZOFFSETTO:-0800
TZNAME:PST
DTSTART:20241103T090000
END:STANDARD
BEGIN:DAYLIGHT
TZOFFSETFROM:-0800
TZOFFSETTO:-0700
TZNAME:PDT
DTSTART:20250309T100000
END:DAYLIGHT
BEGIN:STANDARD
TZOFFSETFROM:-0700
TZOFFSETTO:-0800
TZNAME:PST
DTSTART:20251102T090000
END:STANDARD
END:VTIMEZONE
BEGIN:VEVENT
DTSTART;TZID=America/Los_Angeles:20240318T080000
DTEND;TZID=America/Los_Angeles:20240324T180000
DTSTAMP:20260423T211216
CREATED:20240315T080116Z
LAST-MODIFIED:20240315T085443Z
UID:10000345-1710748800-1711303200@artesiachamber.org
SUMMARY:City of Artesia Restaurant Week
DESCRIPTION:More Info
URL:https://artesiachamber.org/event/city-of-artesia-restaurant-week/
ATTACH;FMTTYPE=image/jpeg:https://artesiachamber.org/wp-content/uploads/City-of-Artesia-Restaurant-Week.jpg
END:VEVENT
BEGIN:VEVENT
DTSTART;TZID=America/Los_Angeles:20240315T180000
DTEND;TZID=America/Los_Angeles:20240315T190000
DTSTAMP:20260423T211216
CREATED:20240313T053438Z
LAST-MODIFIED:20240313T053938Z
UID:10000344-1710525600-1710529200@artesiachamber.org
SUMMARY:1st Ever Event Expo
DESCRIPTION:
URL:https://artesiachamber.org/event/1st-ever-event-expo/
LOCATION:Julio’s Pizza\, 17538 Pioneer Blvd\, Artesia\, CA\, 90701\, United States
ATTACH;FMTTYPE=image/jpeg:https://artesiachamber.org/wp-content/uploads/1st-Ever-Event-Expo-Thumbnail.jpg
END:VEVENT
BEGIN:VEVENT
DTSTART;TZID=America/Los_Angeles:20240315T083000
DTEND;TZID=America/Los_Angeles:20240315T093000
DTSTAMP:20260423T211216
CREATED:20240305T065605Z
LAST-MODIFIED:20240305T065605Z
UID:10000342-1710491400-1710495000@artesiachamber.org
SUMMARY:Networking Breakfast March 2024
DESCRIPTION:Register Now
URL:https://artesiachamber.org/event/networking-breakfast-march-2024/
LOCATION:16907 Pioneer Blvd\, 16907 Pioneer Blvd\, Artesia\, CA\, 90701\, United States
ATTACH;FMTTYPE=image/jpeg:https://artesiachamber.org/wp-content/uploads/Breakfast-Networking-Event-Tumbnail.jpg
END:VEVENT
BEGIN:VEVENT
DTSTART;TZID=America/Los_Angeles:20240301T100000
DTEND;TZID=America/Los_Angeles:20240301T170000
DTSTAMP:20260423T211216
CREATED:20240219T072004Z
LAST-MODIFIED:20240219T072328Z
UID:10000339-1709287200-1709312400@artesiachamber.org
SUMMARY:Nails & Spa Grand Opening
DESCRIPTION:
URL:https://artesiachamber.org/event/nails-spa-grand-opening/
LOCATION:Nails & Spa\, 12146 South St C\, 90701\, Artesia\, CA\, 90701\, United States
ATTACH;FMTTYPE=image/jpeg:https://artesiachamber.org/wp-content/uploads/Nails-Spa-Grand-Opening1.jpg
END:VEVENT
BEGIN:VEVENT
DTSTART;TZID=America/Los_Angeles:20240228T113000
DTEND;TZID=America/Los_Angeles:20240228T123000
DTSTAMP:20260423T211216
CREATED:20240221T072602Z
LAST-MODIFIED:20240221T072634Z
UID:10000341-1709119800-1709123400@artesiachamber.org
SUMMARY:Libre Lunch & Tax Strategies
DESCRIPTION:Register Now
URL:https://artesiachamber.org/event/libre-lunch-tax-strategies/
LOCATION:Nanking Restaurant\, 18349 Pioneer Blvd\, Artesia\, CA\, 90701\, United States
ATTACH;FMTTYPE=image/jpeg:https://artesiachamber.org/wp-content/uploads/Libre-Lunch-Tax-Strategies-Thumbnail.jpg
END:VEVENT
BEGIN:VEVENT
DTSTART;TZID=America/Los_Angeles:20240216T083000
DTEND;TZID=America/Los_Angeles:20240216T090000
DTSTAMP:20260423T211216
CREATED:20240125T111306Z
LAST-MODIFIED:20240125T111851Z
UID:10000335-1708072200-1708074000@artesiachamber.org
SUMMARY:Networking Breakfast February 2024
DESCRIPTION:Register Now
URL:https://artesiachamber.org/event/networking-breakfast-february-2024/
LOCATION:16907 Pioneer Blvd\, 16907 Pioneer Blvd\, Artesia\, CA\, 90701\, United States
ATTACH;FMTTYPE=image/jpeg:https://artesiachamber.org/wp-content/uploads/Breakfast-Networking-February-2024.jpg
END:VEVENT
BEGIN:VEVENT
DTSTART;TZID=America/Los_Angeles:20240215T120000
DTEND;TZID=America/Los_Angeles:20240215T130000
DTSTAMP:20260423T211216
CREATED:20240215T111307Z
LAST-MODIFIED:20240215T111549Z
UID:10000338-1707998400-1708002000@artesiachamber.org
SUMMARY:Lunch & Learn Presentation
DESCRIPTION:
URL:https://artesiachamber.org/event/lunch-learn-presentation/
LOCATION:Salo-Salo Grill\, 18300 Gridley Rd Ste A\, Artesia\, CA\, 90701\, United States
ATTACH;FMTTYPE=image/jpeg:https://artesiachamber.org/wp-content/uploads/Lunch-Learn-Presentation-Thumbnail.jpg
END:VEVENT
BEGIN:VEVENT
DTSTART;TZID=America/Los_Angeles:20240210T090000
DTEND;TZID=America/Los_Angeles:20240210T130000
DTSTAMP:20260423T211216
CREATED:20240125T120329Z
LAST-MODIFIED:20240125T120943Z
UID:10000336-1707555600-1707570000@artesiachamber.org
SUMMARY:Passport Fair 2024
DESCRIPTION:Book Appointment
URL:https://artesiachamber.org/event/passport-fair-2024/
LOCATION:Buena Park – City Hall\, 6650 Beach Blvd\, Buena Park\, 90621\, United States
ATTACH;FMTTYPE=image/jpeg:https://artesiachamber.org/wp-content/uploads/2024-Passport-Fair-Thumbnail.jpg
END:VEVENT
BEGIN:VEVENT
DTSTART;TZID=America/Los_Angeles:20240208T180000
DTEND;TZID=America/Los_Angeles:20240208T190000
DTSTAMP:20260423T211216
CREATED:20240116T074655Z
LAST-MODIFIED:20240219T043010Z
UID:10000334-1707415200-1707418800@artesiachamber.org
SUMMARY:Farewell Dinner For Larry Caballero and To Introduce Our New Board Members
DESCRIPTION:Register Now
URL:https://artesiachamber.org/event/farewell-dinner-for-larry-caballero-and-to-introduce-our-new-board-members/
LOCATION:Julio’s Pizza\, 17538 Pioneer Blvd\, Artesia\, CA\, 90701\, United States
ATTACH;FMTTYPE=image/jpeg:https://artesiachamber.org/wp-content/uploads/Farewell-Dinner-For-Larry-Caballero-and-To-Introduce-Our-New-Board-Members.jpg
END:VEVENT
BEGIN:VEVENT
DTSTART;TZID=America/Los_Angeles:20240201T180000
DTEND;TZID=America/Los_Angeles:20240201T200000
DTSTAMP:20260423T211216
CREATED:20240109T091946Z
LAST-MODIFIED:20240219T043520Z
UID:10000333-1706810400-1706817600@artesiachamber.org
SUMMARY:What You Don't Know as a Business Owner Can Hurt You Series
DESCRIPTION:Register Now
URL:https://artesiachamber.org/event/what-you-dont-know-as-a-business-owner-can-hurt-you-series/
LOCATION:The Ziba Building\, 17832 Pioneer Blvd\, Artesia\, 90701\, United States
ATTACH;FMTTYPE=image/jpeg:https://artesiachamber.org/wp-content/uploads/What-You-Dont-Know-as-a-Business-Owner-Can-Hurt-You-Series-Thumbnails.jpg
END:VEVENT
BEGIN:VEVENT
DTSTART;TZID=America/Los_Angeles:20240119T083000
DTEND;TZID=America/Los_Angeles:20240119T090000
DTSTAMP:20260423T211216
CREATED:20240104T050942Z
LAST-MODIFIED:20240219T043523Z
UID:10000332-1705653000-1705654800@artesiachamber.org
SUMMARY:Networking Breakfast January 2024
DESCRIPTION:Register Now
URL:https://artesiachamber.org/event/networking-breakfast-january-2024/
LOCATION:16907 Pioneer Blvd\, 16907 Pioneer Blvd\, Artesia\, CA\, 90701\, United States
ATTACH;FMTTYPE=image/jpeg:https://artesiachamber.org/wp-content/uploads/networking-breakfast-january-2024.jpg
END:VEVENT
BEGIN:VEVENT
DTSTART;TZID=America/Los_Angeles:20231206T173000
DTEND;TZID=America/Los_Angeles:20231206T183000
DTSTAMP:20260423T211216
CREATED:20231108T053101Z
LAST-MODIFIED:20240219T043529Z
UID:10000331-1701883800-1701887400@artesiachamber.org
SUMMARY:Holiday Party Chamber Installation
DESCRIPTION:$25 Per Person Until Tuesday\, December 5\, 2023\n$35 Per Person at the Door \nRegister Now
URL:https://artesiachamber.org/event/holiday-party-chamber-installation/
LOCATION:Julio’s Pizza\, 17538 Pioneer Blvd\, Artesia\, CA\, 90701\, United States
ATTACH;FMTTYPE=image/jpeg:https://artesiachamber.org/wp-content/uploads/Holiday-Party-Chamber-Installation-Thumbnail.jpg
END:VEVENT
BEGIN:VEVENT
DTSTART;TZID=America/Los_Angeles:20231117T083000
DTEND;TZID=America/Los_Angeles:20231117T090000
DTSTAMP:20260423T211216
CREATED:20231107T055939Z
LAST-MODIFIED:20240219T043551Z
UID:10000330-1700209800-1700211600@artesiachamber.org
SUMMARY:Networking Breakfast November 2023
DESCRIPTION:Register Now
URL:https://artesiachamber.org/event/networking-breakfast-november-2023/
LOCATION:16907 Pioneer Blvd\, 16907 Pioneer Blvd\, Artesia\, CA\, 90701\, United States
ATTACH;FMTTYPE=image/jpeg:https://artesiachamber.org/wp-content/uploads/Chamber-Breakfast-November-2023-Thumbnail.jpg
END:VEVENT
BEGIN:VEVENT
DTSTART;TZID=America/Los_Angeles:20231109T173000
DTEND;TZID=America/Los_Angeles:20231109T183000
DTSTAMP:20260423T211216
CREATED:20231019T062950Z
LAST-MODIFIED:20240219T043556Z
UID:10000329-1699551000-1699554600@artesiachamber.org
SUMMARY:Comerica Happy Diwali Celebration
DESCRIPTION:Register Now
URL:https://artesiachamber.org/event/comerica-happy-diwali-celebration/
LOCATION:Comerica Bank\, 11355 South St.\, Cerritos\, CA\, 90703\, United States
ATTACH;FMTTYPE=image/jpeg:https://artesiachamber.org/wp-content/uploads/Diwali-Celebration-Thumbnail.jpg
END:VEVENT
BEGIN:VEVENT
DTSTART;TZID=America/Los_Angeles:20231028T170000
DTEND;TZID=America/Los_Angeles:20231028T210000
DTSTAMP:20260423T211216
CREATED:20231006T104022Z
LAST-MODIFIED:20240219T043602Z
UID:10000328-1698512400-1698526800@artesiachamber.org
SUMMARY:Dia de Los Muertos Movie Night
DESCRIPTION:
URL:https://artesiachamber.org/event/dia-de-los-muertos-movie-night/
LOCATION:11142 Artesia Blvd.\, 11142 Artesia Blvd.\, Cerritos\, CA\, 90703\, United States
ATTACH;FMTTYPE=image/jpeg:https://artesiachamber.org/wp-content/uploads/Dia-de-Los-Muertos-Movie-Night-Thumbnail.jpg
END:VEVENT
BEGIN:VEVENT
DTSTART;TZID=America/Los_Angeles:20231027T083000
DTEND;TZID=America/Los_Angeles:20231027T093000
DTSTAMP:20260423T211216
CREATED:20230926T062413Z
LAST-MODIFIED:20240219T043626Z
UID:10000325-1698395400-1698399000@artesiachamber.org
SUMMARY:Networking Breakfast October 2023
DESCRIPTION:Register Now
URL:https://artesiachamber.org/event/networking-breakfast-october-2023/
LOCATION:16907 Pioneer Blvd\, 16907 Pioneer Blvd\, Artesia\, CA\, 90701\, United States
ATTACH;FMTTYPE=image/jpeg:https://artesiachamber.org/wp-content/uploads/networking-nreakfast-nctober-2023-thumbnail-ver2.jpg
END:VEVENT
BEGIN:VEVENT
DTSTART;TZID=America/Los_Angeles:20231005T170000
DTEND;TZID=America/Los_Angeles:20231005T190000
DTSTAMP:20260423T211216
CREATED:20230928T053838Z
LAST-MODIFIED:20240219T043632Z
UID:10000326-1696525200-1696532400@artesiachamber.org
SUMMARY:What You Don't Know Can Hurt You
DESCRIPTION:Register Now
URL:https://artesiachamber.org/event/what-you-dont-know-can-hurt-you/
LOCATION:The Ziba Building\, 17832 Pioneer Blvd\, Artesia\, 90701\, United States
ATTACH;FMTTYPE=image/jpeg:https://artesiachamber.org/wp-content/uploads/What-You-Dont-Know-Can-Hurt-You-Thumbnail.jpg
END:VEVENT
BEGIN:VEVENT
DTSTART;TZID=America/Los_Angeles:20231001T180000
DTEND;TZID=America/Los_Angeles:20231001T190000
DTSTAMP:20260423T211216
CREATED:20230818T052500Z
LAST-MODIFIED:20240219T043639Z
UID:10000321-1696183200-1696186800@artesiachamber.org
SUMMARY:A Journey of Courage
DESCRIPTION:
URL:https://artesiachamber.org/event/a-journey-of-courage/
LOCATION:Sheraton Hotel\, 12725 Center Ct Dr S\, Cerritos\, CA\, 90703\, United States
ATTACH;FMTTYPE=image/jpeg:https://artesiachamber.org/wp-content/uploads/A-Journey-of-Courage-thumbnail-1.jpg
END:VEVENT
BEGIN:VEVENT
DTSTART;TZID=America/Los_Angeles:20230924T173000
DTEND;TZID=America/Los_Angeles:20230924T183000
DTSTAMP:20260423T211216
CREATED:20230818T052822Z
LAST-MODIFIED:20240219T043647Z
UID:10000322-1695576600-1695580200@artesiachamber.org
SUMMARY:32nd Annual Gala
DESCRIPTION:
URL:https://artesiachamber.org/event/32nd-annual-gala/
LOCATION:Sheraton Hotel\, 12725 Center Ct Dr S\, Cerritos\, CA\, 90703\, United States
ATTACH;FMTTYPE=image/jpeg:https://artesiachamber.org/wp-content/uploads/32nd-Annual-Gala-Thumbnail.jpg
END:VEVENT
BEGIN:VEVENT
DTSTART;TZID=America/Los_Angeles:20230923T100000
DTEND;TZID=America/Los_Angeles:20230923T120000
DTSTAMP:20260423T211216
CREATED:20230830T054215Z
LAST-MODIFIED:20240219T043654Z
UID:10000324-1695463200-1695470400@artesiachamber.org
SUMMARY:Artesia Cemetery Open House
DESCRIPTION:
URL:https://artesiachamber.org/event/artesia-cemetery-open-house/
LOCATION:11142 Artesia Blvd.\, 11142 Artesia Blvd.\, Cerritos\, CA\, 90703\, United States
ATTACH;FMTTYPE=image/jpeg:https://artesiachamber.org/wp-content/uploads/Artesia-Cemetery-Open-House-Thumbnail.jpg
END:VEVENT
BEGIN:VEVENT
DTSTART;TZID=America/Los_Angeles:20230915T083000
DTEND;TZID=America/Los_Angeles:20230915T093000
DTSTAMP:20260423T211216
CREATED:20230821T052652Z
LAST-MODIFIED:20240219T043703Z
UID:10000323-1694766600-1694770200@artesiachamber.org
SUMMARY:Networking Breakfast September 2023
DESCRIPTION:Register Now
URL:https://artesiachamber.org/event/networking-breakfast-september-2023/
LOCATION:16907 Pioneer Blvd\, 16907 Pioneer Blvd\, Artesia\, CA\, 90701\, United States
ATTACH;FMTTYPE=image/jpeg:https://artesiachamber.org/wp-content/uploads/Chamber-Breakfast-September-2023-Thumbnail.jpg
END:VEVENT
BEGIN:VEVENT
DTSTART;TZID=America/Los_Angeles:20230818T083000
DTEND;TZID=America/Los_Angeles:20230818T093000
DTSTAMP:20260423T211216
CREATED:20230814T055006Z
LAST-MODIFIED:20230814T055006Z
UID:10000320-1692347400-1692351000@artesiachamber.org
SUMMARY:Networking Breakfast August 2023
DESCRIPTION:Register Now
URL:https://artesiachamber.org/event/networking-breakfast-august-2023/
LOCATION:16907 Pioneer Blvd\, 16907 Pioneer Blvd\, Artesia\, CA\, 90701\, United States
ATTACH;FMTTYPE=image/jpeg:https://artesiachamber.org/wp-content/uploads/Chamber-Breakfast-August-2023-Thumbnail.jpg
END:VEVENT
BEGIN:VEVENT
DTSTART;TZID=America/Los_Angeles:20230816T173000
DTEND;TZID=America/Los_Angeles:20230816T183000
DTSTAMP:20260423T211216
CREATED:20230814T053638Z
LAST-MODIFIED:20240219T043711Z
UID:10000319-1692207000-1692210600@artesiachamber.org
SUMMARY:India Independence Day
DESCRIPTION:
URL:https://artesiachamber.org/event/india-independence-day/
LOCATION:18168 Pioneer Blvd\, 18168 Pioneer Blvd\, Artesia\, CA\, 90701\, United States
ATTACH;FMTTYPE=image/jpeg:https://artesiachamber.org/wp-content/uploads/India-Independence-Day-Thumbnail.jpg
END:VEVENT
BEGIN:VEVENT
DTSTART;TZID=America/Los_Angeles:20230801T180000
DTEND;TZID=America/Los_Angeles:20230801T190000
DTSTAMP:20260423T211216
CREATED:20230720T111333Z
LAST-MODIFIED:20240219T043719Z
UID:10000318-1690912800-1690916400@artesiachamber.org
SUMMARY:Community Workshop
DESCRIPTION:
URL:https://artesiachamber.org/event/community-workshop/
LOCATION:Artesia park community center\, 18750 Clarkdale Ave Artesia\, Artesia\, CA\, 90701\, United States
ATTACH;FMTTYPE=image/jpeg:https://artesiachamber.org/wp-content/uploads/Community-Workshop-thumbnail.jpg
END:VEVENT
BEGIN:VEVENT
DTSTART;TZID=America/Los_Angeles:20230705T170000
DTEND;TZID=America/Los_Angeles:20230823T190000
DTSTAMP:20260423T211216
CREATED:20230518T075937Z
LAST-MODIFIED:20240219T043728Z
UID:10000054-1688576400-1692817200@artesiachamber.org
SUMMARY:Small Business Entrepreneurship Development Training Program
DESCRIPTION:
URL:https://artesiachamber.org/event/small-business-entrepreneurship-development-training-program/
ATTACH;FMTTYPE=image/jpeg:https://artesiachamber.org/wp-content/uploads/Small-Business-Development-Training-Program-thumbnail.jpg
END:VEVENT
BEGIN:VEVENT
DTSTART;TZID=America/Los_Angeles:20230616T083000
DTEND;TZID=America/Los_Angeles:20230616T090000
DTSTAMP:20260423T211216
CREATED:20230522T124346Z
LAST-MODIFIED:20240219T043736Z
UID:10000048-1686904200-1686906000@artesiachamber.org
SUMMARY:Networking Breakfast June 2023
DESCRIPTION:Register Now
URL:https://artesiachamber.org/event/networking-breakfast-june-2023/
LOCATION:Denny’s\, 16907 Pioneer Blvd\, Artesia\, CA\, 90701\, United States
ATTACH;FMTTYPE=image/jpeg:https://artesiachamber.org/wp-content/uploads/Networking-Breakfast-June-2023-Thumbnail.jpg
END:VEVENT
BEGIN:VEVENT
DTSTART;TZID=America/Los_Angeles:20230614T140000
DTEND;TZID=America/Los_Angeles:20230614T170000
DTSTAMP:20260423T211216
CREATED:20230613T061931Z
LAST-MODIFIED:20240219T043744Z
UID:10000317-1686751200-1686762000@artesiachamber.org
SUMMARY:Grant Funds Still Available For Business
DESCRIPTION:
URL:https://artesiachamber.org/event/grant-funds-still-available-for-business/
LOCATION:Joseph Dio Holdings\, Inc\, 17832 Pioneer Blvd. Ste 200\, Artesia\, CA\, 90701\, United States
ATTACH;FMTTYPE=image/jpeg:https://artesiachamber.org/wp-content/uploads/Grant-Funds-Still-Available-For-Business-thumbnail.jpg
END:VEVENT
BEGIN:VEVENT
DTSTART;TZID=America/Los_Angeles:20230613T100000
DTEND;TZID=America/Los_Angeles:20230627T110000
DTSTAMP:20260423T211216
CREATED:20230529T062914Z
LAST-MODIFIED:20240219T043752Z
UID:10000056-1686650400-1687863600@artesiachamber.org
SUMMARY:Movement Therapy June 2023
DESCRIPTION:
URL:https://artesiachamber.org/event/movement-therapy-june-2023/
LOCATION:Albert O. Little Community Center\, 18750 Clarkdale Ave\, Artesia\, CA\, 90701\, United States
ATTACH;FMTTYPE=image/jpeg:https://artesiachamber.org/wp-content/uploads/Movement-therapy-june-2023-thumbnail.jpg
END:VEVENT
BEGIN:VEVENT
DTSTART;TZID=America/Los_Angeles:20230606T100000
DTEND;TZID=America/Los_Angeles:20230620T110000
DTSTAMP:20260423T211216
CREATED:20230529T063845Z
LAST-MODIFIED:20230529T063845Z
UID:10000316-1686045600-1687258800@artesiachamber.org
SUMMARY:Yoga For Wellness June 2023
DESCRIPTION:
URL:https://artesiachamber.org/event/yoga-for-wellness-june-2023/
LOCATION:Albert O. Little Community Center\, 18750 Clarkdale Ave\, Artesia\, CA\, 90701\, United States
ATTACH;FMTTYPE=image/jpeg:https://artesiachamber.org/wp-content/uploads/Yoga-therapy-june-2023-thumbnail.jpg
END:VEVENT
BEGIN:VEVENT
DTSTART;TZID=America/Los_Angeles:20230603T090000
DTEND;TZID=America/Los_Angeles:20230603T130000
DTSTAMP:20260423T211216
CREATED:20230308T065827Z
LAST-MODIFIED:20240219T043802Z
UID:10000042-1685782800-1685797200@artesiachamber.org
SUMMARY:Regional Job Fair - City of Bellflower
DESCRIPTION:
URL:https://artesiachamber.org/event/regional-job-fair-city-of-bellflower/
LOCATION:Simms Park\, 16614 Clark Ave\, Bellflower\, CA\, 90706\, United States
ATTACH;FMTTYPE=image/jpeg:https://artesiachamber.org/wp-content/uploads/RJF-Bellflower-Flyer-2023-Thumbnails.jpg
END:VEVENT
END:VCALENDAR