BEGIN:VCALENDAR
VERSION:2.0
PRODID:-//Artesia Chamber - ECPv6.15.20//NONSGML v1.0//EN
CALSCALE:GREGORIAN
METHOD:PUBLISH
X-ORIGINAL-URL:https://artesiachamber.org
X-WR-CALDESC:Events for Artesia Chamber
REFRESH-INTERVAL;VALUE=DURATION:PT1H
X-Robots-Tag:noindex
X-PUBLISHED-TTL:PT1H
BEGIN:VTIMEZONE
TZID:America/Los_Angeles
BEGIN:DAYLIGHT
TZOFFSETFROM:-0800
TZOFFSETTO:-0700
TZNAME:PDT
DTSTART:20230312T100000
END:DAYLIGHT
BEGIN:STANDARD
TZOFFSETFROM:-0700
TZOFFSETTO:-0800
TZNAME:PST
DTSTART:20231105T090000
END:STANDARD
BEGIN:DAYLIGHT
TZOFFSETFROM:-0800
TZOFFSETTO:-0700
TZNAME:PDT
DTSTART:20240310T100000
END:DAYLIGHT
BEGIN:STANDARD
TZOFFSETFROM:-0700
TZOFFSETTO:-0800
TZNAME:PST
DTSTART:20241103T090000
END:STANDARD
BEGIN:DAYLIGHT
TZOFFSETFROM:-0800
TZOFFSETTO:-0700
TZNAME:PDT
DTSTART:20250309T100000
END:DAYLIGHT
BEGIN:STANDARD
TZOFFSETFROM:-0700
TZOFFSETTO:-0800
TZNAME:PST
DTSTART:20251102T090000
END:STANDARD
BEGIN:DAYLIGHT
TZOFFSETFROM:-0800
TZOFFSETTO:-0700
TZNAME:PDT
DTSTART:20260308T100000
END:DAYLIGHT
BEGIN:STANDARD
TZOFFSETFROM:-0700
TZOFFSETTO:-0800
TZNAME:PST
DTSTART:20261101T090000
END:STANDARD
END:VTIMEZONE
BEGIN:VEVENT
DTSTART;TZID=America/Los_Angeles:20241020T140000
DTEND;TZID=America/Los_Angeles:20241020T160000
DTSTAMP:20260425T072420
CREATED:20241009T055237Z
LAST-MODIFIED:20241009T055237Z
UID:10000391-1729432800-1729440000@artesiachamber.org
SUMMARY:Diwali The Festival of Lights
DESCRIPTION:
URL:https://artesiachamber.org/event/diwali-the-festival-of-lights/
LOCATION:CA
ATTACH;FMTTYPE=image/jpeg:https://artesiachamber.org/wp-content/uploads/Diwali-The-Festival-of-Lights-Thumbnails.jpg
END:VEVENT
BEGIN:VEVENT
DTSTART;TZID=America/Los_Angeles:20241024T170000
DTEND;TZID=America/Los_Angeles:20241024T180000
DTSTAMP:20260425T072420
CREATED:20240903T050506Z
LAST-MODIFIED:20240903T050506Z
UID:10000383-1729789200-1729792800@artesiachamber.org
SUMMARY:Happy Diwali
DESCRIPTION:Register Now
URL:https://artesiachamber.org/event/happy-diwali/
LOCATION:Comerica Bank\, 11355 South St.\, Cerritos\, CA\, 90703\, United States
ATTACH;FMTTYPE=image/jpeg:https://artesiachamber.org/wp-content/uploads/Happy-Diwali-Thumbnail.jpg
END:VEVENT
BEGIN:VEVENT
DTSTART;TZID=America/Los_Angeles:20241029T180000
DTEND;TZID=America/Los_Angeles:20241029T193000
DTSTAMP:20260425T072420
CREATED:20241001T110952Z
LAST-MODIFIED:20241001T110952Z
UID:10000389-1730224800-1730230200@artesiachamber.org
SUMMARY:Marisa Perez
DESCRIPTION:
URL:https://artesiachamber.org/event/marisa-perez/
LOCATION:CA
ATTACH;FMTTYPE=image/jpeg:https://artesiachamber.org/wp-content/uploads/Marisa-Perez.jpg
END:VEVENT
BEGIN:VEVENT
DTSTART;TZID=America/Los_Angeles:20241030T170000
DTEND;TZID=America/Los_Angeles:20241030T200000
DTSTAMP:20260425T072420
CREATED:20241030T071654Z
LAST-MODIFIED:20241030T071925Z
UID:10000394-1730307600-1730318400@artesiachamber.org
SUMMARY:Multi Chamber Mixer & Business Networking
DESCRIPTION:Register Now
URL:https://artesiachamber.org/event/multi-chamber-mixer-business-networking/
LOCATION:Los Cerrritos Mall\, 239 Los Cerritos Center\, Cerritos\, 90703\, United States
ATTACH;FMTTYPE=image/jpeg:https://artesiachamber.org/wp-content/uploads/Multi-Chamber-Mixer-Business-Networking-Thumbnail.jpg
END:VEVENT
BEGIN:VEVENT
DTSTART;TZID=America/Los_Angeles:20241031T180000
DTEND;TZID=America/Los_Angeles:20241031T210000
DTSTAMP:20260425T072420
CREATED:20241001T105641Z
LAST-MODIFIED:20241001T105649Z
UID:10000388-1730397600-1730408400@artesiachamber.org
SUMMARY:Trunk Or Treat
DESCRIPTION:
URL:https://artesiachamber.org/event/trunk-or-treat/
LOCATION:Artesia park community center\, 18750 Clarkdale Ave Artesia\, Artesia\, CA\, 90701\, United States
ATTACH;FMTTYPE=image/jpeg:https://artesiachamber.org/wp-content/uploads/Trunk-Or-Treat-Thumbnail.jpg
END:VEVENT
BEGIN:VEVENT
DTSTART;TZID=America/Los_Angeles:20241109T100000
DTEND;TZID=America/Los_Angeles:20241109T130000
DTSTAMP:20260425T072420
CREATED:20241031T063946Z
LAST-MODIFIED:20241031T064010Z
UID:10000395-1731146400-1731157200@artesiachamber.org
SUMMARY:Veterans Day Celebration
DESCRIPTION:
URL:https://artesiachamber.org/event/veterans-day-celebration/
LOCATION:Artesia park community center\, 18750 Clarkdale Ave Artesia\, Artesia\, CA\, 90701\, United States
ATTACH;FMTTYPE=image/jpeg:https://artesiachamber.org/wp-content/uploads/Veterans-Day-Celebration-Thumbnail.jpg
END:VEVENT
BEGIN:VEVENT
DTSTART;TZID=America/Los_Angeles:20241115T083000
DTEND;TZID=America/Los_Angeles:20241115T093000
DTSTAMP:20260425T072420
CREATED:20241105T105725Z
LAST-MODIFIED:20241105T110027Z
UID:10000396-1731659400-1731663000@artesiachamber.org
SUMMARY:Networking Breakfast
DESCRIPTION:Register Now
URL:https://artesiachamber.org/event/networking-breakfast-november-2024/
LOCATION:16907 Pioneer Blvd\, 16907 Pioneer Blvd\, Artesia\, CA\, 90701\, United States
ATTACH;FMTTYPE=image/jpeg:https://artesiachamber.org/wp-content/uploads/Networking-Breakfast-November-2024-Thumbnail.jpg
END:VEVENT
BEGIN:VEVENT
DTSTART;TZID=America/Los_Angeles:20241116T070000
DTEND;TZID=America/Los_Angeles:20241116T090000
DTSTAMP:20260425T072420
CREATED:20241107T064331Z
LAST-MODIFIED:20241107T065909Z
UID:10000397-1731740400-1731747600@artesiachamber.org
SUMMARY:Artesia 5K Run
DESCRIPTION:
URL:https://artesiachamber.org/event/artesia-5k-run/
LOCATION:Artesia park community center\, 18750 Clarkdale Ave Artesia\, Artesia\, CA\, 90701\, United States
ATTACH;FMTTYPE=image/jpeg:https://artesiachamber.org/wp-content/uploads/Artesia-5K-Run-Thumbnail.jpg
END:VEVENT
BEGIN:VEVENT
DTSTART;TZID=America/Los_Angeles:20241204T180000
DTEND;TZID=America/Los_Angeles:20241204T210000
DTSTAMP:20260425T072420
CREATED:20241007T064819Z
LAST-MODIFIED:20241115T104518Z
UID:10000390-1733335200-1733346000@artesiachamber.org
SUMMARY:Holiday Party & Installation
DESCRIPTION:Become a Sponsor
URL:https://artesiachamber.org/event/holiday-party-installation/
LOCATION:CA
ATTACH;FMTTYPE=image/jpeg:https://artesiachamber.org/wp-content/uploads/Holiday-Party-Installation-Thumbnail.jpg
END:VEVENT
BEGIN:VEVENT
DTSTART;TZID=America/Los_Angeles:20241204T180000
DTEND;TZID=America/Los_Angeles:20241204T210000
DTSTAMP:20260425T072420
CREATED:20241029T095039Z
LAST-MODIFIED:20241107T162827Z
UID:10000393-1733335200-1733346000@artesiachamber.org
SUMMARY:Holiday Installation Party
DESCRIPTION:Register Now
URL:https://artesiachamber.org/event/holiday-installation-party/
LOCATION:Julio’s Pizza\, 17538 Pioneer Blvd\, Artesia\, CA\, 90701\, United States
ATTACH;FMTTYPE=image/jpeg:https://artesiachamber.org/wp-content/uploads/Holiday-Installation-Party-Thumbnail.jpg
END:VEVENT
BEGIN:VEVENT
DTSTART;TZID=America/Los_Angeles:20250117T083000
DTEND;TZID=America/Los_Angeles:20250117T093000
DTSTAMP:20260425T072420
CREATED:20250107T053721Z
LAST-MODIFIED:20250107T054045Z
UID:10000398-1737102600-1737106200@artesiachamber.org
SUMMARY:Networking Breakfast
DESCRIPTION:Register Now
URL:https://artesiachamber.org/event/networking-breakfast-january-2025/
LOCATION:16907 Pioneer Blvd\, 16907 Pioneer Blvd\, Artesia\, CA\, 90701\, United States
ATTACH;FMTTYPE=image/jpeg:https://artesiachamber.org/wp-content/uploads/Networking-Breakfast-January-2025-Thumbnail.jpg
END:VEVENT
BEGIN:VEVENT
DTSTART;TZID=America/Los_Angeles:20250221T083000
DTEND;TZID=America/Los_Angeles:20250221T093000
DTSTAMP:20260425T072420
CREATED:20250122T090815Z
LAST-MODIFIED:20250122T093952Z
UID:10000399-1740126600-1740130200@artesiachamber.org
SUMMARY:Breakfast Connect
DESCRIPTION:Register Now
URL:https://artesiachamber.org/event/breakfast-connect/
LOCATION:16907 Pioneer Blvd\, 16907 Pioneer Blvd\, Artesia\, CA\, 90701\, United States
ATTACH;FMTTYPE=image/jpeg:https://artesiachamber.org/wp-content/uploads/Breakfast-Connect-February-2025-Thumbnail.jpg
END:VEVENT
BEGIN:VEVENT
DTSTART;TZID=America/Los_Angeles:20250228T070000
DTEND;TZID=America/Los_Angeles:20250301T190000
DTSTAMP:20260425T072420
CREATED:20250221T055031Z
LAST-MODIFIED:20250221T055031Z
UID:10000400-1740726000-1740855600@artesiachamber.org
SUMMARY:Jaderoom Artesia Grand Opening
DESCRIPTION:
URL:https://artesiachamber.org/event/jaderoom-artesia-grand-opening/
LOCATION:Jaderoom Artesia\, 17309 Pioneer Blvd\, Artesia\, CA\, 90701\, United States
ATTACH;FMTTYPE=image/jpeg:https://artesiachamber.org/wp-content/uploads/Jaderoom-Artesia-Grand-Opening-Thumbnail.jpg
END:VEVENT
BEGIN:VEVENT
DTSTART;TZID=America/Los_Angeles:20250316T120000
DTEND;TZID=America/Los_Angeles:20250316T130000
DTSTAMP:20260425T072420
CREATED:20250313T070951Z
LAST-MODIFIED:20250313T071003Z
UID:10000403-1742126400-1742130000@artesiachamber.org
SUMMARY:Happy Holi Festival 2025
DESCRIPTION:
URL:https://artesiachamber.org/event/happy-holi-festival-2025/
LOCATION:Artesia Recreation & Parks\, 18747 Clarkdale Ave\, Artesia\, 90701\, United States
ATTACH;FMTTYPE=image/jpeg:https://artesiachamber.org/wp-content/uploads/Happy-Holi-Festival-2025-Thumbnail.jpg
END:VEVENT
BEGIN:VEVENT
DTSTART;TZID=America/Los_Angeles:20250321T083000
DTEND;TZID=America/Los_Angeles:20250321T093000
DTSTAMP:20260425T072420
CREATED:20250303T090237Z
LAST-MODIFIED:20250303T090606Z
UID:10000401-1742545800-1742549400@artesiachamber.org
SUMMARY:Breakfast Connect March 2025
DESCRIPTION:Register Now
URL:https://artesiachamber.org/event/breakfast-connect-march-2025/
LOCATION:16907 Pioneer Blvd\, 16907 Pioneer Blvd\, Artesia\, CA\, 90701\, United States
ATTACH;FMTTYPE=image/jpeg:https://artesiachamber.org/wp-content/uploads/Breakfast-Connect-March-2025.jpg
END:VEVENT
BEGIN:VEVENT
DTSTART;TZID=America/Los_Angeles:20250403T163000
DTEND;TZID=America/Los_Angeles:20250403T173000
DTSTAMP:20260425T072420
CREATED:20250314T072841Z
LAST-MODIFIED:20250314T073731Z
UID:10000404-1743697800-1743701400@artesiachamber.org
SUMMARY:Multi Chamber Mixer
DESCRIPTION:Register Now
URL:https://artesiachamber.org/event/multi-chamber-mixer-april-2025/
LOCATION:Lazy Dog Cafe\, 278 Los Cerritos Center\, Cerritos\, 90703\, United States
ATTACH;FMTTYPE=image/jpeg:https://artesiachamber.org/wp-content/uploads/Multi-Chamber-Mixer-April-2025.jpg
END:VEVENT
BEGIN:VEVENT
DTSTART;TZID=America/Los_Angeles:20250404T133000
DTEND;TZID=America/Los_Angeles:20250404T150000
DTSTAMP:20260425T072420
CREATED:20250402T071155Z
LAST-MODIFIED:20250402T071201Z
UID:10000407-1743773400-1743778800@artesiachamber.org
SUMMARY:District Office Ribbon Cutting & Open House
DESCRIPTION:
URL:https://artesiachamber.org/event/district-office-ribbon-cutting-open-house/
LOCATION:6803 International Ave.\, 6803 International Ave.\, Suite 100\, Cypress\, CA\, 90630\, United States
ATTACH;FMTTYPE=image/jpeg:https://artesiachamber.org/wp-content/uploads/District-Office-Ribbon-Cutting-Open-House.jpg
END:VEVENT
BEGIN:VEVENT
DTSTART;TZID=America/Los_Angeles:20250405T100000
DTEND;TZID=America/Los_Angeles:20250405T140000
DTSTAMP:20260425T072420
CREATED:20250327T045946Z
LAST-MODIFIED:20250327T045946Z
UID:10000406-1743847200-1743861600@artesiachamber.org
SUMMARY:Earth Day 2025
DESCRIPTION:
URL:https://artesiachamber.org/event/earth-day-2025/
LOCATION:Don Knabe Community Regional Park\, 19700 Bloomfield Ave\, Cerritos\, CA\, 90703\, United States
ATTACH;FMTTYPE=image/jpeg:https://artesiachamber.org/wp-content/uploads/Earth-Day-2025.jpg
END:VEVENT
BEGIN:VEVENT
DTSTART;TZID=America/Los_Angeles:20250417T170000
DTEND;TZID=America/Los_Angeles:20250417T190000
DTSTAMP:20260425T072420
CREATED:20250324T071453Z
LAST-MODIFIED:20250407T043023Z
UID:10000405-1744909200-1744916400@artesiachamber.org
SUMMARY:Mix & Mingle
DESCRIPTION:Register Now
URL:https://artesiachamber.org/event/mix-mingle/
LOCATION:Nanking Artesia\, 18349 Pioneer Blvd #5532\, Artesia\, CA\, 90701\, United States
ATTACH;FMTTYPE=image/jpeg:https://artesiachamber.org/wp-content/uploads/Mix-Mingle.jpg
END:VEVENT
BEGIN:VEVENT
DTSTART;TZID=America/Los_Angeles:20250418T083000
DTEND;TZID=America/Los_Angeles:20250418T093000
DTSTAMP:20260425T072420
CREATED:20250303T090507Z
LAST-MODIFIED:20250303T090507Z
UID:10000402-1744965000-1744968600@artesiachamber.org
SUMMARY:Breakfast Connect April 2025
DESCRIPTION:Register Now
URL:https://artesiachamber.org/event/breakfast-connect-april-2025/
LOCATION:16907 Pioneer Blvd\, 16907 Pioneer Blvd\, Artesia\, CA\, 90701\, United States
ATTACH;FMTTYPE=image/jpeg:https://artesiachamber.org/wp-content/uploads/Breakfast-Connect-April-2025.jpg
END:VEVENT
BEGIN:VEVENT
DTSTART;TZID=America/Los_Angeles:20250422T100000
DTEND;TZID=America/Los_Angeles:20250422T110000
DTSTAMP:20260425T072420
CREATED:20250410T045920Z
LAST-MODIFIED:20250410T045929Z
UID:10000408-1745316000-1745319600@artesiachamber.org
SUMMARY:Eternal Sanctuary Ossuary
DESCRIPTION:
URL:https://artesiachamber.org/event/eternal-sanctuary-ossuary/
LOCATION:CA
ATTACH;FMTTYPE=image/jpeg:https://artesiachamber.org/wp-content/uploads/Eternal-Sanctuary-Ossuary.jpg
END:VEVENT
BEGIN:VEVENT
DTSTART;TZID=America/Los_Angeles:20250510T083000
DTEND;TZID=America/Los_Angeles:20250510T140000
DTSTAMP:20260425T072420
CREATED:20250414T123002Z
LAST-MODIFIED:20250415T050216Z
UID:10000409-1746865800-1746885600@artesiachamber.org
SUMMARY:Saahas for Cause - Chak De SoCal
DESCRIPTION:
URL:https://artesiachamber.org/event/saahas-for-cause-chak-de-socal/
LOCATION:Ross Middle School\, 17707 Elaine Ave\, Artesia\, CA\, 90701\, United States
ATTACH;FMTTYPE=image/jpeg:https://artesiachamber.org/wp-content/uploads/Chak-de-3.jpg
END:VEVENT
BEGIN:VEVENT
DTSTART;TZID=America/Los_Angeles:20250510T110000
DTEND;TZID=America/Los_Angeles:20250510T140000
DTSTAMP:20260425T072420
CREATED:20250509T092630Z
LAST-MODIFIED:20250509T092731Z
UID:10000412-1746874800-1746885600@artesiachamber.org
SUMMARY:Friends
DESCRIPTION:
URL:https://artesiachamber.org/event/friends/
LOCATION:Artesia park community center\, 18750 Clarkdale Ave Artesia\, Artesia\, CA\, 90701\, United States
ATTACH;FMTTYPE=image/jpeg:https://artesiachamber.org/wp-content/uploads/Friends.jpg
END:VEVENT
BEGIN:VEVENT
DTSTART;TZID=America/Los_Angeles:20250510T170000
DTEND;TZID=America/Los_Angeles:20250510T220000
DTSTAMP:20260425T072420
CREATED:20250509T092052Z
LAST-MODIFIED:20250509T093957Z
UID:10000411-1746896400-1746914400@artesiachamber.org
SUMMARY:Mariachi Festival
DESCRIPTION:Register Now
URL:https://artesiachamber.org/event/mariachi-festival-2025/
LOCATION:Artesia park community center\, 18750 Clarkdale Ave Artesia\, Artesia\, CA\, 90701\, United States
ATTACH;FMTTYPE=image/jpeg:https://artesiachamber.org/wp-content/uploads/Mariachi-Thumbnail.jpg
END:VEVENT
BEGIN:VEVENT
DTSTART;TZID=America/Los_Angeles:20250516T083000
DTEND;TZID=America/Los_Angeles:20250516T093000
DTSTAMP:20260425T072420
CREATED:20250423T054806Z
LAST-MODIFIED:20250423T061245Z
UID:10000410-1747384200-1747387800@artesiachamber.org
SUMMARY:Breakfast Connect May 2025
DESCRIPTION:Register Now
URL:https://artesiachamber.org/event/breakfast-connect-may-2025/
LOCATION:16907 Pioneer Blvd\, 16907 Pioneer Blvd\, Artesia\, CA\, 90701\, United States
ATTACH;FMTTYPE=image/jpeg:https://artesiachamber.org/wp-content/uploads/Breakfast-Connect-May-2025.jpg
END:VEVENT
BEGIN:VEVENT
DTSTART;TZID=America/Los_Angeles:20250523T100000
DTEND;TZID=America/Los_Angeles:20250523T110000
DTSTAMP:20260425T072420
CREATED:20250515T104849Z
LAST-MODIFIED:20250515T104849Z
UID:10000413-1747994400-1747998000@artesiachamber.org
SUMMARY:Memorial Day Ceremony
DESCRIPTION:
URL:https://artesiachamber.org/event/memorial-day-ceremony/
LOCATION:Artesia Cemetery\, 11142 Artesia Blvd.\, Cerritos\, 90703\, United States
ATTACH;FMTTYPE=image/jpeg:https://artesiachamber.org/wp-content/uploads/Memorial-Day-Ceremony.jpg
END:VEVENT
BEGIN:VEVENT
DTSTART;TZID=America/Los_Angeles:20250604T083000
DTEND;TZID=America/Los_Angeles:20250604T150000
DTSTAMP:20260425T072420
CREATED:20250602T051327Z
LAST-MODIFIED:20250602T051327Z
UID:10000419-1749025800-1749049200@artesiachamber.org
SUMMARY:2025 LA Region Small Business Forum
DESCRIPTION:Register Now
URL:https://artesiachamber.org/event/2025-la-region-small-business-forum/
LOCATION:The Lot at Formosa\, 1000 North Poinsettia PL\, Los Angeles\, 90046\, United States
ATTACH;FMTTYPE=image/jpeg:https://artesiachamber.org/wp-content/uploads/2025-LA-Region-Small-Business-Forum.jpg
END:VEVENT
BEGIN:VEVENT
DTSTART;TZID=America/Los_Angeles:20250606T180000
DTEND;TZID=America/Los_Angeles:20250606T193000
DTSTAMP:20260425T072420
CREATED:20250519T061651Z
LAST-MODIFIED:20250519T061651Z
UID:10000414-1749232800-1749238200@artesiachamber.org
SUMMARY:2nd Annual Summertime Food Giveaway
DESCRIPTION:
URL:https://artesiachamber.org/event/2nd-annual-summertime-food-giveaway/
LOCATION:CA
ATTACH;FMTTYPE=image/jpeg:https://artesiachamber.org/wp-content/uploads/2nd-Annual-Summertime-Food-Giveaway-Thumbnail.jpg
END:VEVENT
BEGIN:VEVENT
DTSTART;TZID=America/Los_Angeles:20250607T080000
DTEND;TZID=America/Los_Angeles:20250607T130000
DTSTAMP:20260425T072420
CREATED:20250530T072139Z
LAST-MODIFIED:20250530T072139Z
UID:10000416-1749283200-1749301200@artesiachamber.org
SUMMARY:2025 Youth Fishing Derby
DESCRIPTION:Register Now
URL:https://artesiachamber.org/event/2025-youth-fishing-derby/
LOCATION:Don Knabe Park\, 19700 S. Bloomfield Ave.\, Cerritos\, 90703\, United States
ATTACH;FMTTYPE=image/jpeg:https://artesiachamber.org/wp-content/uploads/2025-Youth-Fishing-Derby.jpg
END:VEVENT
BEGIN:VEVENT
DTSTART;TZID=America/Los_Angeles:20250617T170000
DTEND;TZID=America/Los_Angeles:20250617T190000
DTSTAMP:20260425T072420
CREATED:20250605T054540Z
LAST-MODIFIED:20250606T091544Z
UID:10000420-1750179600-1750186800@artesiachamber.org
SUMMARY:Networking Mixer
DESCRIPTION:Register Now
URL:https://artesiachamber.org/event/networking-mixer/
LOCATION:18702\, Pioneer Blvd.\, 18702\, Pioneer Blvd.\, Artesia\, 90701\, United States
ATTACH;FMTTYPE=image/jpeg:https://artesiachamber.org/wp-content/uploads/Networking-Mixer.jpg
END:VEVENT
END:VCALENDAR