BEGIN:VCALENDAR
VERSION:2.0
PRODID:-//Artesia Chamber - ECPv6.15.20//NONSGML v1.0//EN
CALSCALE:GREGORIAN
METHOD:PUBLISH
X-WR-CALNAME:Artesia Chamber
X-ORIGINAL-URL:https://artesiachamber.org
X-WR-CALDESC:Events for Artesia Chamber
REFRESH-INTERVAL;VALUE=DURATION:PT1H
X-Robots-Tag:noindex
X-PUBLISHED-TTL:PT1H
BEGIN:VTIMEZONE
TZID:America/Los_Angeles
BEGIN:DAYLIGHT
TZOFFSETFROM:-0800
TZOFFSETTO:-0700
TZNAME:PDT
DTSTART:20230312T100000
END:DAYLIGHT
BEGIN:STANDARD
TZOFFSETFROM:-0700
TZOFFSETTO:-0800
TZNAME:PST
DTSTART:20231105T090000
END:STANDARD
BEGIN:DAYLIGHT
TZOFFSETFROM:-0800
TZOFFSETTO:-0700
TZNAME:PDT
DTSTART:20240310T100000
END:DAYLIGHT
BEGIN:STANDARD
TZOFFSETFROM:-0700
TZOFFSETTO:-0800
TZNAME:PST
DTSTART:20241103T090000
END:STANDARD
BEGIN:DAYLIGHT
TZOFFSETFROM:-0800
TZOFFSETTO:-0700
TZNAME:PDT
DTSTART:20250309T100000
END:DAYLIGHT
BEGIN:STANDARD
TZOFFSETFROM:-0700
TZOFFSETTO:-0800
TZNAME:PST
DTSTART:20251102T090000
END:STANDARD
END:VTIMEZONE
BEGIN:VEVENT
DTSTART;TZID=America/Los_Angeles:20240216T083000
DTEND;TZID=America/Los_Angeles:20240216T090000
DTSTAMP:20260423T122904
CREATED:20240125T111306Z
LAST-MODIFIED:20240125T111851Z
UID:10000335-1708072200-1708074000@artesiachamber.org
SUMMARY:Networking Breakfast February 2024
DESCRIPTION:Register Now
URL:https://artesiachamber.org/event/networking-breakfast-february-2024/
LOCATION:16907 Pioneer Blvd\, 16907 Pioneer Blvd\, Artesia\, CA\, 90701\, United States
ATTACH;FMTTYPE=image/jpeg:https://artesiachamber.org/wp-content/uploads/Breakfast-Networking-February-2024.jpg
END:VEVENT
BEGIN:VEVENT
DTSTART;TZID=America/Los_Angeles:20240228T113000
DTEND;TZID=America/Los_Angeles:20240228T123000
DTSTAMP:20260423T122904
CREATED:20240221T072602Z
LAST-MODIFIED:20240221T072634Z
UID:10000341-1709119800-1709123400@artesiachamber.org
SUMMARY:Libre Lunch & Tax Strategies
DESCRIPTION:Register Now
URL:https://artesiachamber.org/event/libre-lunch-tax-strategies/
LOCATION:Nanking Restaurant\, 18349 Pioneer Blvd\, Artesia\, CA\, 90701\, United States
ATTACH;FMTTYPE=image/jpeg:https://artesiachamber.org/wp-content/uploads/Libre-Lunch-Tax-Strategies-Thumbnail.jpg
END:VEVENT
BEGIN:VEVENT
DTSTART;TZID=America/Los_Angeles:20240301T100000
DTEND;TZID=America/Los_Angeles:20240301T170000
DTSTAMP:20260423T122904
CREATED:20240219T072004Z
LAST-MODIFIED:20240219T072328Z
UID:10000339-1709287200-1709312400@artesiachamber.org
SUMMARY:Nails & Spa Grand Opening
DESCRIPTION:
URL:https://artesiachamber.org/event/nails-spa-grand-opening/
LOCATION:Nails & Spa\, 12146 South St C\, 90701\, Artesia\, CA\, 90701\, United States
ATTACH;FMTTYPE=image/jpeg:https://artesiachamber.org/wp-content/uploads/Nails-Spa-Grand-Opening1.jpg
END:VEVENT
BEGIN:VEVENT
DTSTART;TZID=America/Los_Angeles:20240315T083000
DTEND;TZID=America/Los_Angeles:20240315T093000
DTSTAMP:20260423T122904
CREATED:20240305T065605Z
LAST-MODIFIED:20240305T065605Z
UID:10000342-1710491400-1710495000@artesiachamber.org
SUMMARY:Networking Breakfast March 2024
DESCRIPTION:Register Now
URL:https://artesiachamber.org/event/networking-breakfast-march-2024/
LOCATION:16907 Pioneer Blvd\, 16907 Pioneer Blvd\, Artesia\, CA\, 90701\, United States
ATTACH;FMTTYPE=image/jpeg:https://artesiachamber.org/wp-content/uploads/Breakfast-Networking-Event-Tumbnail.jpg
END:VEVENT
BEGIN:VEVENT
DTSTART;TZID=America/Los_Angeles:20240315T180000
DTEND;TZID=America/Los_Angeles:20240315T190000
DTSTAMP:20260423T122904
CREATED:20240313T053438Z
LAST-MODIFIED:20240313T053938Z
UID:10000344-1710525600-1710529200@artesiachamber.org
SUMMARY:1st Ever Event Expo
DESCRIPTION:
URL:https://artesiachamber.org/event/1st-ever-event-expo/
LOCATION:Julio’s Pizza\, 17538 Pioneer Blvd\, Artesia\, CA\, 90701\, United States
ATTACH;FMTTYPE=image/jpeg:https://artesiachamber.org/wp-content/uploads/1st-Ever-Event-Expo-Thumbnail.jpg
END:VEVENT
BEGIN:VEVENT
DTSTART;TZID=America/Los_Angeles:20240318T080000
DTEND;TZID=America/Los_Angeles:20240324T180000
DTSTAMP:20260423T122904
CREATED:20240315T080116Z
LAST-MODIFIED:20240315T085443Z
UID:10000345-1710748800-1711303200@artesiachamber.org
SUMMARY:City of Artesia Restaurant Week
DESCRIPTION:More Info
URL:https://artesiachamber.org/event/city-of-artesia-restaurant-week/
ATTACH;FMTTYPE=image/jpeg:https://artesiachamber.org/wp-content/uploads/City-of-Artesia-Restaurant-Week.jpg
END:VEVENT
BEGIN:VEVENT
DTSTART;TZID=America/Los_Angeles:20240324T120000
DTEND;TZID=America/Los_Angeles:20240324T160000
DTSTAMP:20260423T122904
CREATED:20240219T072918Z
LAST-MODIFIED:20240219T073526Z
UID:10000340-1711281600-1711296000@artesiachamber.org
SUMMARY:Holi Festival 2024
DESCRIPTION:Register Now
URL:https://artesiachamber.org/event/holi-festival-2024/
LOCATION:Artesia park community center\, 18750 Clarkdale Ave Artesia\, Artesia\, CA\, 90701\, United States
ATTACH;FMTTYPE=image/jpeg:https://artesiachamber.org/wp-content/uploads/Holi-Festival-2024-thumbnail.jpg
END:VEVENT
BEGIN:VEVENT
DTSTART;TZID=America/Los_Angeles:20240326T173000
DTEND;TZID=America/Los_Angeles:20240423T173000
DTSTAMP:20260423T122904
CREATED:20240325T054039Z
LAST-MODIFIED:20240325T054142Z
UID:10000348-1711474200-1713893400@artesiachamber.org
SUMMARY:Join Our Healthy Living Webinar Series!
DESCRIPTION:Register Now
URL:https://artesiachamber.org/event/join-our-healthy-living-webinar-series/
ATTACH;FMTTYPE=image/jpeg:https://artesiachamber.org/wp-content/uploads/Join-Our-Healthy-Living-Webinar-Series.jpg
END:VEVENT
BEGIN:VEVENT
DTSTART;TZID=America/Los_Angeles:20240330T110000
DTEND;TZID=America/Los_Angeles:20240330T120000
DTSTAMP:20260423T122904
CREATED:20240325T053514Z
LAST-MODIFIED:20240325T053526Z
UID:10000347-1711796400-1711800000@artesiachamber.org
SUMMARY:Senior Tech Class: Understanding Computer Hardware
DESCRIPTION:
URL:https://artesiachamber.org/event/senior-tech-class-understanding-computer-hardware/
LOCATION:18801 Elaine Ave\, 18801 Elaine Ave\, Artesia\, CA\, 90701\, United States
ATTACH;FMTTYPE=image/jpeg:https://artesiachamber.org/wp-content/uploads/Understanding-Computer-Hardware.jpg
END:VEVENT
BEGIN:VEVENT
DTSTART;TZID=America/Los_Angeles:20240403T180000
DTEND;TZID=America/Los_Angeles:20240403T190000
DTSTAMP:20260423T122904
CREATED:20240313T052240Z
LAST-MODIFIED:20240313T052312Z
UID:10000343-1712167200-1712170800@artesiachamber.org
SUMMARY:Evening Mixer at Julio's Pizza
DESCRIPTION:Register Now
URL:https://artesiachamber.org/event/evening-mixer-at-julios-pizza/
LOCATION:Julio’s Pizza\, 17538 Pioneer Blvd\, Artesia\, CA\, 90701\, United States
ATTACH;FMTTYPE=image/jpeg:https://artesiachamber.org/wp-content/uploads/Evening-Mixer-at-Julios-Pizzat-Tumbnail.jpg
END:VEVENT
BEGIN:VEVENT
DTSTART;TZID=America/Los_Angeles:20240413T170000
DTEND;TZID=America/Los_Angeles:20240413T220000
DTSTAMP:20260423T122904
CREATED:20240402T064234Z
LAST-MODIFIED:20240402T065355Z
UID:10000350-1713027600-1713045600@artesiachamber.org
SUMMARY:Mariachi Festival
DESCRIPTION:More Info
URL:https://artesiachamber.org/event/mariachi-festival/
LOCATION:Artesia park community center\, 18750 Clarkdale Ave Artesia\, Artesia\, CA\, 90701\, United States
ATTACH;FMTTYPE=image/jpeg:https://artesiachamber.org/wp-content/uploads/Mariachi-Festival.jpg
END:VEVENT
BEGIN:VEVENT
DTSTART;TZID=America/Los_Angeles:20240419T083000
DTEND;TZID=America/Los_Angeles:20240419T093000
DTSTAMP:20260423T122904
CREATED:20240409T065525Z
LAST-MODIFIED:20240409T065525Z
UID:10000351-1713515400-1713519000@artesiachamber.org
SUMMARY:Networking Breakfast April 2024
DESCRIPTION:Register Now
URL:https://artesiachamber.org/event/networking-breakfast-april-2024/
LOCATION:16907 Pioneer Blvd\, 16907 Pioneer Blvd\, Artesia\, CA\, 90701\, United States
ATTACH;FMTTYPE=image/jpeg:https://artesiachamber.org/wp-content/uploads/Networking-Breakfast-April-2024.jpg
END:VEVENT
BEGIN:VEVENT
DTSTART;TZID=America/Los_Angeles:20240419T100000
DTEND;TZID=America/Los_Angeles:20240419T150000
DTSTAMP:20260423T122904
CREATED:20240401T064959Z
LAST-MODIFIED:20240401T064959Z
UID:10000349-1713520800-1713538800@artesiachamber.org
SUMMARY:Free Citizenship Workshop
DESCRIPTION:
URL:https://artesiachamber.org/event/free-citizenship-workshop/
LOCATION:Alhambra Civic Center Library Reese Hall\, 101 S 1s St.\, Alhambra\, CA\, 91801\, United States
ATTACH;FMTTYPE=image/jpeg:https://artesiachamber.org/wp-content/uploads/Free-Citizenship-Workshop-Thumbnail.jpg
END:VEVENT
BEGIN:VEVENT
DTSTART;TZID=America/Los_Angeles:20240421T090000
DTEND;TZID=America/Los_Angeles:20240421T100000
DTSTAMP:20260423T122904
CREATED:20240325T052713Z
LAST-MODIFIED:20240325T054246Z
UID:10000346-1713690000-1713693600@artesiachamber.org
SUMMARY:Valley Community Yoga
DESCRIPTION:RSVP Here
URL:https://artesiachamber.org/event/valley-community-yoga/
LOCATION:10500 Mason Ave\, 10500 Mason Ave\, Chatsworth\, CA\, 91311\, United States
ATTACH;FMTTYPE=image/jpeg:https://artesiachamber.org/wp-content/uploads/Mass-Yoga.jpg
END:VEVENT
BEGIN:VEVENT
DTSTART;TZID=America/Los_Angeles:20240509T173000
DTEND;TZID=America/Los_Angeles:20240509T193000
DTSTAMP:20260423T122904
CREATED:20240424T062925Z
LAST-MODIFIED:20240424T063125Z
UID:10000352-1715275800-1715283000@artesiachamber.org
SUMMARY:Understanding ADA and Drive - By Lawsuits
DESCRIPTION:Register Now
URL:https://artesiachamber.org/event/understanding-ada-and-drive-by-lawsuits/
LOCATION:The Ziba Building\, 17832 Pioneer Blvd\, Artesia\, 90701\, United States
ATTACH;FMTTYPE=image/jpeg:https://artesiachamber.org/wp-content/uploads/Understanding-ADA-and-Drive-By-Lawsuits.jpg
END:VEVENT
BEGIN:VEVENT
DTSTART;TZID=America/Los_Angeles:20240517T083000
DTEND;TZID=America/Los_Angeles:20240517T093000
DTSTAMP:20260423T122904
CREATED:20240516T100947Z
LAST-MODIFIED:20240516T101712Z
UID:10000354-1715934600-1715938200@artesiachamber.org
SUMMARY:Networking Breakfast May 2024
DESCRIPTION:Register Now
URL:https://artesiachamber.org/event/networking-breakfast-may-2024/
LOCATION:16907 Pioneer Blvd\, 16907 Pioneer Blvd\, Artesia\, CA\, 90701\, United States
ATTACH;FMTTYPE=image/jpeg:https://artesiachamber.org/wp-content/uploads/Breakfast-Networking-Event-1.jpg
END:VEVENT
BEGIN:VEVENT
DTSTART;TZID=America/Los_Angeles:20240528T113000
DTEND;TZID=America/Los_Angeles:20240528T133000
DTSTAMP:20260423T122904
CREATED:20240515T051435Z
LAST-MODIFIED:20240515T052302Z
UID:10000353-1716895800-1716903000@artesiachamber.org
SUMMARY:Network with Purpose
DESCRIPTION:Register Now
URL:https://artesiachamber.org/event/network-with-purpose/
LOCATION:Julio’s Pizza\, 17538 Pioneer Blvd\, Artesia\, CA\, 90701\, United States
ATTACH;FMTTYPE=image/jpeg:https://artesiachamber.org/wp-content/uploads/Network-with-Purpose.jpg
END:VEVENT
BEGIN:VEVENT
DTSTART;TZID=America/Los_Angeles:20240612T110000
DTEND;TZID=America/Los_Angeles:20240612T110000
DTSTAMP:20260423T122904
CREATED:20240606T055425Z
LAST-MODIFIED:20240606T055639Z
UID:10000356-1718190000-1718190000@artesiachamber.org
SUMMARY:Nalli Grand Opening
DESCRIPTION:
URL:https://artesiachamber.org/event/nalli-grand-opening/
LOCATION:18625 Pioneer Boulevard\, 18625 Pioneer Boulevard\, Artesia\, CA\, 90701\, United States
ATTACH;FMTTYPE=image/jpeg:https://artesiachamber.org/wp-content/uploads/Nalli-Grand-Opening.jpg
END:VEVENT
BEGIN:VEVENT
DTSTART;TZID=America/Los_Angeles:20240615T090000
DTEND;TZID=America/Los_Angeles:20240615T150000
DTSTAMP:20260423T122904
CREATED:20240612T050941Z
LAST-MODIFIED:20240612T050941Z
UID:10000357-1718442000-1718463600@artesiachamber.org
SUMMARY:Free Household Hazardous Waste & E-Waste Recycling Collection Event
DESCRIPTION:More Info
URL:https://artesiachamber.org/event/free-household-hazardous-waste-e-waste-recycling-collection-event/
LOCATION:Artesia park community center\, 18750 Clarkdale Ave Artesia\, Artesia\, CA\, 90701\, United States
ATTACH;FMTTYPE=image/jpeg:https://artesiachamber.org/wp-content/uploads/Too-toxic-to-trash.jpg
END:VEVENT
BEGIN:VEVENT
DTSTART;TZID=America/Los_Angeles:20240621T083000
DTEND;TZID=America/Los_Angeles:20240621T093000
DTSTAMP:20260423T122904
CREATED:20240521T061534Z
LAST-MODIFIED:20240521T061724Z
UID:10000355-1718958600-1718962200@artesiachamber.org
SUMMARY:Networking Breakfast June 2024
DESCRIPTION:Register Now
URL:https://artesiachamber.org/event/networking-breakfast-june-2024/
LOCATION:16907 Pioneer Blvd\, 16907 Pioneer Blvd\, Artesia\, CA\, 90701\, United States
ATTACH;FMTTYPE=image/jpeg:https://artesiachamber.org/wp-content/uploads/Breakfast-Networking-Event-June-2024.jpg
END:VEVENT
BEGIN:VEVENT
DTSTART;TZID=America/Los_Angeles:20240704T150000
DTEND;TZID=America/Los_Angeles:20240704T213000
DTSTAMP:20260423T122904
CREATED:20240701T061753Z
LAST-MODIFIED:20240701T061753Z
UID:10000359-1720105200-1720128600@artesiachamber.org
SUMMARY:4th of July Celebration
DESCRIPTION:
URL:https://artesiachamber.org/event/4th-of-july-celebration/
LOCATION:Artesia park community center\, 18750 Clarkdale Ave Artesia\, Artesia\, CA\, 90701\, United States
ATTACH;FMTTYPE=image/jpeg:https://artesiachamber.org/wp-content/uploads/4th-of-July-Celebration.jpg
END:VEVENT
BEGIN:VEVENT
DTSTART;TZID=America/Los_Angeles:20240719T083000
DTEND;TZID=America/Los_Angeles:20240719T093000
DTSTAMP:20260423T122904
CREATED:20240701T064323Z
LAST-MODIFIED:20240718T172037Z
UID:10000360-1721377800-1721381400@artesiachamber.org
SUMMARY:Networking Breakfast July 2024
DESCRIPTION:Register Now
URL:https://artesiachamber.org/event/networking-breakfast-july-2024/
LOCATION:16907 Pioneer Blvd\, 16907 Pioneer Blvd\, Artesia\, CA\, 90701\, United States
ATTACH;FMTTYPE=image/jpeg:https://artesiachamber.org/wp-content/uploads/new-brochure.jpg
END:VEVENT
BEGIN:VEVENT
DTSTART;TZID=America/Los_Angeles:20240720T070000
DTEND;TZID=America/Los_Angeles:20240720T170000
DTSTAMP:20260423T122904
CREATED:20240701T065122Z
LAST-MODIFIED:20240708T101240Z
UID:10000361-1721458800-1721494800@artesiachamber.org
SUMMARY:The California Bakehouse Grand Opening
DESCRIPTION:
URL:https://artesiachamber.org/event/the-california-bakehouse-grand-opening/
LOCATION:The California Bakehouse\, 11825 Artesia Blvd\, Artesia\, 90701\, United States
ATTACH;FMTTYPE=image/jpeg:https://artesiachamber.org/wp-content/uploads/The-California-Bakehouse-Grand-Opening-thumbnail.jpg
END:VEVENT
BEGIN:VEVENT
DTSTART;TZID=America/Los_Angeles:20240721T120000
DTEND;TZID=America/Los_Angeles:20240721T130000
DTSTAMP:20260423T122904
CREATED:20240712T055406Z
LAST-MODIFIED:20240712T055422Z
UID:10000367-1721563200-1721566800@artesiachamber.org
SUMMARY:National Ice Cream Day
DESCRIPTION:
URL:https://artesiachamber.org/event/national-ice-cream-day/
LOCATION:Saffron Spot\, 18744 Pioneer Blvd\, Artesia\, 9O701\, United States
ATTACH;FMTTYPE=image/jpeg:https://artesiachamber.org/wp-content/uploads/National-Ice-Cream-Day-Thumbnail.jpg
END:VEVENT
BEGIN:VEVENT
DTSTART;TZID=America/Los_Angeles:20240727T180000
DTEND;TZID=America/Los_Angeles:20240727T203000
DTSTAMP:20260423T122904
CREATED:20240708T093421Z
LAST-MODIFIED:20240708T093421Z
UID:10000362-1722103200-1722112200@artesiachamber.org
SUMMARY:Mindful Healing Yoga
DESCRIPTION:Register Now
URL:https://artesiachamber.org/event/mindful-healing-yoga/
LOCATION:Dockweiler State Beach\, 12000 Vista Del Mar\, Playa\, Del Ray\, 90293\, United States
ATTACH;FMTTYPE=image/jpeg:https://artesiachamber.org/wp-content/uploads/Mindful-Healing-1.jpg
END:VEVENT
BEGIN:VEVENT
DTSTART;TZID=America/Los_Angeles:20240802T150000
DTEND;TZID=America/Los_Angeles:20240802T190000
DTSTAMP:20260423T122904
CREATED:20240712T055919Z
LAST-MODIFIED:20240712T055938Z
UID:10000368-1722610800-1722625200@artesiachamber.org
SUMMARY:Art Family Dental
DESCRIPTION:
URL:https://artesiachamber.org/event/art-family-dental/
LOCATION:17613 Pioneer Blv.\, 17613 Pioneer Blv.\, Artesia\, 90701\, United States
ATTACH;FMTTYPE=image/jpeg:https://artesiachamber.org/wp-content/uploads/Art-Family-Dental-Thumbnail.jpg
END:VEVENT
BEGIN:VEVENT
DTSTART;TZID=America/Los_Angeles:20240803T110000
DTEND;TZID=America/Los_Angeles:20240803T120000
DTSTAMP:20260423T122904
CREATED:20240712T053321Z
LAST-MODIFIED:20240712T053321Z
UID:10000364-1722682800-1722686400@artesiachamber.org
SUMMARY:Trolls
DESCRIPTION:
URL:https://artesiachamber.org/event/trolls/
LOCATION:Cerritos Community College District\, 11110 Alondra Blvd\, Norwalk\, CA\, 90650\, United States
ATTACH;FMTTYPE=image/jpeg:https://artesiachamber.org/wp-content/uploads/Trolls-Thumbnail.jpg
END:VEVENT
BEGIN:VEVENT
DTSTART;TZID=America/Los_Angeles:20240808T130000
DTEND;TZID=America/Los_Angeles:20240808T170000
DTSTAMP:20260423T122904
CREATED:20240627T090033Z
LAST-MODIFIED:20240708T101409Z
UID:10000358-1723122000-1723136400@artesiachamber.org
SUMMARY:Asian American Business & Cultural
DESCRIPTION:Register Now
URL:https://artesiachamber.org/event/asian-american-business-cultural/
LOCATION:18000 Park Plaza Drive\, 18000 Park Plaza Drive\, Cerritos\, 90703\, United States
ATTACH;FMTTYPE=image/jpeg:https://artesiachamber.org/wp-content/uploads/AABCE-Event-Flyer-Thumbnails.jpg
END:VEVENT
BEGIN:VEVENT
DTSTART;TZID=America/Los_Angeles:20240808T180000
DTEND;TZID=America/Los_Angeles:20240808T193000
DTSTAMP:20260423T122904
CREATED:20240712T054329Z
LAST-MODIFIED:20240712T054348Z
UID:10000365-1723140000-1723145400@artesiachamber.org
SUMMARY:Mastering California's
DESCRIPTION:Register Now
URL:https://artesiachamber.org/event/mastering-californias/
LOCATION:The Ziba Building\, 17832 Pioneer Blvd\, Artesia\, 90701\, United States
ATTACH;FMTTYPE=image/jpeg:https://artesiachamber.org/wp-content/uploads/Mastering-Californias-Thumbnail.jpg
END:VEVENT
BEGIN:VEVENT
DTSTART;TZID=America/Los_Angeles:20240810T080000
DTEND;TZID=America/Los_Angeles:20240810T120000
DTSTAMP:20260423T122904
CREATED:20240726T094212Z
LAST-MODIFIED:20240726T094617Z
UID:10000372-1723276800-1723291200@artesiachamber.org
SUMMARY:Shred
DESCRIPTION:
URL:https://artesiachamber.org/event/shred/
LOCATION:Evergreen Park\, 9300 Moody Street\, Cypress\, 90630\, United States
ATTACH;FMTTYPE=image/jpeg:https://artesiachamber.org/wp-content/uploads/Shred-Event-Thumbnail.jpg
END:VEVENT
END:VCALENDAR